BEGIN:VCALENDAR
VERSION:2.0
PRODID:-//Life Action - ECPv6.15.20//NONSGML v1.0//EN
CALSCALE:GREGORIAN
METHOD:PUBLISH
X-ORIGINAL-URL:https://lifeaction.org
X-WR-CALDESC:Events for Life Action
REFRESH-INTERVAL;VALUE=DURATION:PT1H
X-Robots-Tag:noindex
X-PUBLISHED-TTL:PT1H
BEGIN:VTIMEZONE
TZID:UTC
BEGIN:STANDARD
TZOFFSETFROM:+0000
TZOFFSETTO:+0000
TZNAME:UTC
DTSTART:20230101T000000
END:STANDARD
END:VTIMEZONE
BEGIN:VEVENT
DTSTART;VALUE=DATE:20240913
DTEND;VALUE=DATE:20240916
DTSTAMP:20260422T001405
CREATED:20231213T225824Z
LAST-MODIFIED:20240501T202016Z
UID:10000029-1726185600-1726444799@lifeaction.org
SUMMARY:Journey
DESCRIPTION:It’s not every day that we have real\, undistracted time to invest in our daughters. That’s what Journey is all about – moms and daughters\, learning\, loving\, and laughing together! Life Action will take care of all the practical things – activities\, food\, lodging\, and schedule – so that all you have to do is what matters most. Book your Journey together\, today! \n\n\nNote: We recommend that daughters be at least six years old for this event.
URL:https://lifeaction.org/event/journey-2/
LOCATION:Life Action Camp\, 1696 E Clear Lake Rd\, Buchanan\, MI\, 49107
CATEGORIES:Mother and Daughter Retreat
ATTACH;FMTTYPE=image/jpeg:https://lifeaction.org/wp-content/uploads/2023/12/C03_4935-scaled.jpg
END:VEVENT
BEGIN:VEVENT
DTSTART;VALUE=DATE:20240426
DTEND;VALUE=DATE:20240429
DTSTAMP:20260422T001405
CREATED:20231213T225648Z
LAST-MODIFIED:20250211T140136Z
UID:10000028-1714089600-1714348799@lifeaction.org
SUMMARY:Journey
DESCRIPTION:It’s not every day that we have real\, undistracted time to invest in our daughters. That’s what Journey is all about – moms and daughters\, learning\, loving\, and laughing together! Life Action will take care of all the practical things – activities\, food\, lodging\, and schedule – so that all you have to do is what matters most. Book your Journey together\, today! \n\n\nNote: We recommend that daughters be at least six years old for this event.
URL:https://lifeaction.org/event/journey2024/
LOCATION:Life Action Camp\, 1696 E Clear Lake Rd\, Buchanan\, MI\, 49107
CATEGORIES:Mother and Daughter Retreat
ATTACH;FMTTYPE=image/jpeg:https://lifeaction.org/wp-content/uploads/2023/12/C03_4935-scaled.jpg
END:VEVENT
END:VCALENDAR