BEGIN:VCALENDAR
VERSION:2.0
PRODID:-//Life Action - ECPv6.15.20//NONSGML v1.0//EN
CALSCALE:GREGORIAN
METHOD:PUBLISH
X-WR-CALNAME:Life Action
X-ORIGINAL-URL:https://lifeaction.org
X-WR-CALDESC:Events for Life Action
REFRESH-INTERVAL;VALUE=DURATION:PT1H
X-Robots-Tag:noindex
X-PUBLISHED-TTL:PT1H
BEGIN:VTIMEZONE
TZID:UTC
BEGIN:STANDARD
TZOFFSETFROM:+0000
TZOFFSETTO:+0000
TZNAME:UTC
DTSTART:20230101T000000
END:STANDARD
END:VTIMEZONE
BEGIN:VEVENT
DTSTART;VALUE=DATE:20240412
DTEND;VALUE=DATE:20240415
DTSTAMP:20260424T085954
CREATED:20231213T003423Z
LAST-MODIFIED:20250218T162248Z
UID:10000012-1712880000-1713139199@lifeaction.org
SUMMARY:MoMENtum
DESCRIPTION:Food\, fellowship\, and spiritual recharging mark these men’s times together. Be challenged in your Christian walk and encouraged to lead your family with deliberate action. \n\n\nNote: This retreat is designed for men ages 16 and older.
URL:https://lifeaction.org/event/momentum2024/
LOCATION:Life Action Camp\, 1696 E Clear Lake Rd\, Buchanan\, MI\, 49107
CATEGORIES:Men's Retreat
ATTACH;FMTTYPE=image/jpeg:https://lifeaction.org/wp-content/uploads/2023/12/Momentum23-2506-scaled.jpg
END:VEVENT
END:VCALENDAR