BEGIN:VCALENDAR
VERSION:2.0
PRODID:-//Life Action - ECPv6.15.20//NONSGML v1.0//EN
CALSCALE:GREGORIAN
METHOD:PUBLISH
X-ORIGINAL-URL:https://lifeaction.org
X-WR-CALDESC:Events for Life Action
REFRESH-INTERVAL;VALUE=DURATION:PT1H
X-Robots-Tag:noindex
X-PUBLISHED-TTL:PT1H
BEGIN:VTIMEZONE
TZID:UTC
BEGIN:STANDARD
TZOFFSETFROM:+0000
TZOFFSETTO:+0000
TZNAME:UTC
DTSTART:20230101T000000
END:STANDARD
END:VTIMEZONE
BEGIN:VEVENT
DTSTART;VALUE=DATE:20240503
DTEND;VALUE=DATE:20240506
DTSTAMP:20260423T003130
CREATED:20231212T212525Z
LAST-MODIFIED:20240213T170144Z
UID:10000003-1714694400-1714953599@lifeaction.org
SUMMARY:Marriage Retreat | The Marriage Garden
DESCRIPTION:Marriages\, just like gardens\, are intended to grow! This retreat will help you pull the weeds that choke the life out of your marriage while tending to what makes a fruitful relationship.
URL:https://lifeaction.org/event/marriage-retreat-3/
LOCATION:The Lodge\, Buchanan\, MI
CATEGORIES:Marriage Retreat
ATTACH;FMTTYPE=image/jpeg:https://lifeaction.org/wp-content/uploads/2023/12/HeaderImage_MarriageRetreat.jpg
END:VEVENT
BEGIN:VEVENT
DTSTART;VALUE=DATE:20240517
DTEND;VALUE=DATE:20240519
DTSTAMP:20260423T003130
CREATED:20240404T145009Z
LAST-MODIFIED:20240409T151028Z
UID:10000050-1715904000-1716076799@lifeaction.org
SUMMARY:SoulMates Marriage Conference
DESCRIPTION:Cost: $150 Per Couple (Includes 2 S.D.I. Assessments)\nTime: 7pm – 9pm Friday and 9am – 4pm Saturday \nWhat if you were given a key to a better marriage? That key is growing in relationship IQ\, and knowing the unique relational blueprint of your marriage. This marriage workshop increases relationship IQ using a proven assessment that provides couples with a personalized blueprint to understand their motivations\, conflict sequence\, strengths\, and communication style. You will experience fun-filled exercises that stimulate meaningful conversations\, and gain practical skills for a successful marriage. Best of all\, you will leave with a customized action plan for your marriage to thrive. \nWe’ve designed this event to help you develop self-awareness\, avoid misunderstandings\, overcome hurts\, adapt to stress\, recognize triggers\, reduce reactivity\, appreciate strengths\, communicate effectively\, fight constructively\, resolve conflict\, connect deeply\, and grow spiritually.
URL:https://lifeaction.org/event/soulmates-bcbc/
LOCATION:Berrien Center Bible Church\, 8830 Michigan 140\, Berrien Center\, MI\, 49102\, United States
CATEGORIES:Marriage Retreat,SoulMates Marriage Conference
ATTACH;FMTTYPE=image/jpeg:https://lifeaction.org/wp-content/uploads/2023/12/SoulMates-March.jpg
END:VEVENT
END:VCALENDAR