BEGIN:VCALENDAR
VERSION:2.0
PRODID:-//Life Action - ECPv6.15.20//NONSGML v1.0//EN
CALSCALE:GREGORIAN
METHOD:PUBLISH
X-WR-CALNAME:Life Action
X-ORIGINAL-URL:https://lifeaction.org
X-WR-CALDESC:Events for Life Action
REFRESH-INTERVAL;VALUE=DURATION:PT1H
X-Robots-Tag:noindex
X-PUBLISHED-TTL:PT1H
BEGIN:VTIMEZONE
TZID:UTC
BEGIN:STANDARD
TZOFFSETFROM:+0000
TZOFFSETTO:+0000
TZNAME:UTC
DTSTART:20240101T000000
END:STANDARD
END:VTIMEZONE
BEGIN:VEVENT
DTSTART;VALUE=DATE:20250630
DTEND;VALUE=DATE:20250706
DTSTAMP:20260422T100210
CREATED:20240508T161116Z
LAST-MODIFIED:20250213T184001Z
UID:10000056-1751241600-1751759999@lifeaction.org
SUMMARY:Family Camp Week 5
DESCRIPTION:We’re all about Family Camp: activities designed for the whole family\, age-specific teaching during each session\, and much more. Family Camp is packed with fun from land to water.
URL:https://lifeaction.org/event/family-camp-week-5-2025/
LOCATION:Life Action Camp\, 1696 E Clear Lake Rd\, Buchanan\, MI\, 49107
CATEGORIES:Family Camp
ATTACH;FMTTYPE=image/jpeg:https://lifeaction.org/wp-content/uploads/2023/12/Family-Camp-2023-8563-1-scaled.jpg
END:VEVENT
BEGIN:VEVENT
DTSTART;VALUE=DATE:20250707
DTEND;VALUE=DATE:20250713
DTSTAMP:20260422T100210
CREATED:20240508T161207Z
LAST-MODIFIED:20250213T184634Z
UID:10000057-1751846400-1752364799@lifeaction.org
SUMMARY:Family Camp Week 6
DESCRIPTION:We’re all about Family Camp: activities designed for the whole family\, age-specific teaching during each session\, and much more. Family Camp is packed with fun from land to water. \n 
URL:https://lifeaction.org/event/family-camp-week-6-2025/
LOCATION:Life Action Camp\, 1696 E Clear Lake Rd\, Buchanan\, MI\, 49107
CATEGORIES:Family Camp
ATTACH;FMTTYPE=image/jpeg:https://lifeaction.org/wp-content/uploads/2023/12/Family-Camp-2023-8654-1-1-scaled.jpg
END:VEVENT
BEGIN:VEVENT
DTSTART;VALUE=DATE:20250714
DTEND;VALUE=DATE:20250720
DTSTAMP:20260422T100210
CREATED:20240508T161339Z
LAST-MODIFIED:20250213T184726Z
UID:10000058-1752451200-1752969599@lifeaction.org
SUMMARY:Family Camp Week 7
DESCRIPTION:We’re all about Family Camp: activities designed for the whole family\, age-specific teaching during each session\, and much more. Family Camp is packed with fun from land to water.
URL:https://lifeaction.org/event/family-camp-week-7-2025/
LOCATION:Life Action Camp\, 1696 E Clear Lake Rd\, Buchanan\, MI\, 49107
CATEGORIES:Family Camp
ATTACH;FMTTYPE=image/jpeg:https://lifeaction.org/wp-content/uploads/2023/12/Family-Camp-2023-13-1-scaled.jpg
END:VEVENT
BEGIN:VEVENT
DTSTART;VALUE=DATE:20250721
DTEND;VALUE=DATE:20250727
DTSTAMP:20260422T100210
CREATED:20240508T161609Z
LAST-MODIFIED:20250213T190653Z
UID:10000059-1753056000-1753574399@lifeaction.org
SUMMARY:Family Camp Week 8
DESCRIPTION:We’re all about Family Camp: activities designed for the whole family\, age-specific teaching during each session\, and much more. Family Camp is packed with fun from land to water.
URL:https://lifeaction.org/event/family-camp-week-8-2025/
LOCATION:Life Action Camp\, 1696 E Clear Lake Rd\, Buchanan\, MI\, 49107
CATEGORIES:Family Camp
ATTACH;FMTTYPE=image/jpeg:https://lifeaction.org/wp-content/uploads/2023/12/Family-Camp-2023-2150-scaled.jpg
END:VEVENT
BEGIN:VEVENT
DTSTART;VALUE=DATE:20250728
DTEND;VALUE=DATE:20250803
DTSTAMP:20260422T100211
CREATED:20240508T161908Z
LAST-MODIFIED:20250213T190915Z
UID:10000060-1753660800-1754179199@lifeaction.org
SUMMARY:Family Camp Week 9
DESCRIPTION:We’re all about Family Camp: activities designed for the whole family\, age-specific teaching during each session\, and much more. Family Camp is packed with fun from land to water.
URL:https://lifeaction.org/event/family-camp-week-9-2025/
LOCATION:Life Action Camp\, 1696 E Clear Lake Rd\, Buchanan\, MI\, 49107
CATEGORIES:Family Camp
ATTACH;FMTTYPE=image/jpeg:https://lifeaction.org/wp-content/uploads/2023/12/Family-Camp-2023-3-scaled.jpg
END:VEVENT
END:VCALENDAR