BEGIN:VCALENDAR
VERSION:2.0
PRODID:-//Life Action - ECPv6.15.20//NONSGML v1.0//EN
CALSCALE:GREGORIAN
METHOD:PUBLISH
X-WR-CALNAME:Life Action
X-ORIGINAL-URL:https://lifeaction.org
X-WR-CALDESC:Events for Life Action
REFRESH-INTERVAL;VALUE=DURATION:PT1H
X-Robots-Tag:noindex
X-PUBLISHED-TTL:PT1H
BEGIN:VTIMEZONE
TZID:UTC
BEGIN:STANDARD
TZOFFSETFROM:+0000
TZOFFSETTO:+0000
TZNAME:UTC
DTSTART:20230101T000000
END:STANDARD
END:VTIMEZONE
BEGIN:VEVENT
DTSTART;VALUE=DATE:20240701
DTEND;VALUE=DATE:20240707
DTSTAMP:20260423T093951
CREATED:20231213T213305Z
LAST-MODIFIED:20240208T171745Z
UID:10000021-1719792000-1720310399@lifeaction.org
SUMMARY:Family Camp Week 5
DESCRIPTION:We’re all about Family Camp: activities designed for the whole family\, age-specific teaching during each session\, and much more. Family Camp is packed with fun from land to water.
URL:https://lifeaction.org/event/family-camp-week-5/
LOCATION:Life Action Camp\, 1696 E Clear Lake Rd\, Buchanan\, MI\, 49107
CATEGORIES:Family Camp
ATTACH;FMTTYPE=image/jpeg:https://lifeaction.org/wp-content/uploads/2023/12/Family-Camp-2023-8563-1-scaled.jpg
END:VEVENT
BEGIN:VEVENT
DTSTART;VALUE=DATE:20240708
DTEND;VALUE=DATE:20240714
DTSTAMP:20260423T093951
CREATED:20231213T213506Z
LAST-MODIFIED:20240208T172055Z
UID:10000022-1720396800-1720915199@lifeaction.org
SUMMARY:Family Camp Week 6
DESCRIPTION:We’re all about Family Camp: activities designed for the whole family\, age-specific teaching during each session\, and much more. Family Camp is packed with fun from land to water.
URL:https://lifeaction.org/event/family-camp-week-6/
LOCATION:Life Action Camp\, 1696 E Clear Lake Rd\, Buchanan\, MI\, 49107
CATEGORIES:Family Camp
ATTACH;FMTTYPE=image/jpeg:https://lifeaction.org/wp-content/uploads/2023/12/Family-Camp-2023-17-scaled.jpg
END:VEVENT
BEGIN:VEVENT
DTSTART;VALUE=DATE:20240715
DTEND;VALUE=DATE:20240721
DTSTAMP:20260423T093951
CREATED:20231213T213634Z
LAST-MODIFIED:20240208T172215Z
UID:10000023-1721001600-1721519999@lifeaction.org
SUMMARY:Family Camp Week 7
DESCRIPTION:We’re all about Family Camp: activities designed for the whole family\, age-specific teaching during each session\, and much more. Family Camp is packed with fun from land to water.
URL:https://lifeaction.org/event/family-camp-week-7/
LOCATION:Life Action Camp\, 1696 E Clear Lake Rd\, Buchanan\, MI\, 49107
CATEGORIES:Family Camp
ATTACH;FMTTYPE=image/jpeg:https://lifeaction.org/wp-content/uploads/2023/12/Family-Camp-2023-13-1-scaled.jpg
END:VEVENT
BEGIN:VEVENT
DTSTART;VALUE=DATE:20240722
DTEND;VALUE=DATE:20240728
DTSTAMP:20260423T093951
CREATED:20231213T213810Z
LAST-MODIFIED:20240208T173036Z
UID:10000024-1721606400-1722124799@lifeaction.org
SUMMARY:Family Camp Week 8
DESCRIPTION:We’re all about Family Camp: activities designed for the whole family\, age-specific teaching during each session\, and much more. Family Camp is packed with fun from land to water.
URL:https://lifeaction.org/event/family-camp-week-8/
LOCATION:Life Action Camp\, 1696 E Clear Lake Rd\, Buchanan\, MI\, 49107
CATEGORIES:Family Camp
ATTACH;FMTTYPE=image/jpeg:https://lifeaction.org/wp-content/uploads/2023/12/Family-Camp-2023-2150-scaled.jpg
END:VEVENT
BEGIN:VEVENT
DTSTART;VALUE=DATE:20240729
DTEND;VALUE=DATE:20240804
DTSTAMP:20260423T093951
CREATED:20231213T214004Z
LAST-MODIFIED:20240208T173501Z
UID:10000025-1722211200-1722729599@lifeaction.org
SUMMARY:Family Camp Week 9
DESCRIPTION:We’re all about Family Camp: activities designed for the whole family\, age-specific teaching during each session\, and much more. Family Camp is packed with fun from land to water.
URL:https://lifeaction.org/event/family-camp-week-9/
LOCATION:Life Action Camp\, 1696 E Clear Lake Rd\, Buchanan\, MI\, 49107
CATEGORIES:Family Camp
ATTACH;FMTTYPE=image/jpeg:https://lifeaction.org/wp-content/uploads/2023/12/Family-Camp-2023-3-scaled.jpg
END:VEVENT
END:VCALENDAR