BEGIN:VCALENDAR
VERSION:2.0
PRODID:-//Life Action - ECPv6.15.20//NONSGML v1.0//EN
CALSCALE:GREGORIAN
METHOD:PUBLISH
X-ORIGINAL-URL:https://lifeaction.org
X-WR-CALDESC:Events for Life Action
REFRESH-INTERVAL;VALUE=DURATION:PT1H
X-Robots-Tag:noindex
X-PUBLISHED-TTL:PT1H
BEGIN:VTIMEZONE
TZID:UTC
BEGIN:STANDARD
TZOFFSETFROM:+0000
TZOFFSETTO:+0000
TZNAME:UTC
DTSTART:20230101T000000
END:STANDARD
END:VTIMEZONE
BEGIN:VEVENT
DTSTART;VALUE=DATE:20240603
DTEND;VALUE=DATE:20240609
DTSTAMP:20260423T112729
CREATED:20231213T212612Z
LAST-MODIFIED:20240508T163206Z
UID:10000017-1717372800-1717891199@lifeaction.org
SUMMARY:Family Camp Week 1
DESCRIPTION:We’re all about Family Camp: activities designed for the whole family\, age-specific teaching during each session\, and much more. Family Camp is packed with fun from land to water.
URL:https://lifeaction.org/event/family-camp-week-1/
LOCATION:Life Action Camp\, 1696 E Clear Lake Rd\, Buchanan\, MI\, 49107
CATEGORIES:Family Camp
ATTACH;FMTTYPE=image/jpeg:https://lifeaction.org/wp-content/uploads/2023/12/Family-Camp-2023-4389-scaled.jpg
END:VEVENT
BEGIN:VEVENT
DTSTART;VALUE=DATE:20240610
DTEND;VALUE=DATE:20240616
DTSTAMP:20260423T112729
CREATED:20231213T212802Z
LAST-MODIFIED:20240208T165434Z
UID:10000018-1717977600-1718495999@lifeaction.org
SUMMARY:Family Camp Week 2
DESCRIPTION:We’re all about Family Camp: activities designed for the whole family\, age-specific teaching during each session\, and much more. Family Camp is packed with fun from land to water.
URL:https://lifeaction.org/event/family-camp-week-2/
LOCATION:Life Action Camp\, 1696 E Clear Lake Rd\, Buchanan\, MI\, 49107
CATEGORIES:Family Camp
ATTACH;FMTTYPE=image/jpeg:https://lifeaction.org/wp-content/uploads/2023/12/Family-Camp-2023-3461-scaled.jpg
END:VEVENT
BEGIN:VEVENT
DTSTART;VALUE=DATE:20240617
DTEND;VALUE=DATE:20240623
DTSTAMP:20260423T112729
CREATED:20231213T213005Z
LAST-MODIFIED:20240208T165640Z
UID:10000019-1718582400-1719100799@lifeaction.org
SUMMARY:Family Camp Week 3
DESCRIPTION:We’re all about Family Camp: activities designed for the whole family\, age-specific teaching during each session\, and much more. Family Camp is packed with fun from land to water.
URL:https://lifeaction.org/event/family-camp-week-3/
LOCATION:Life Action Camp\, 1696 E Clear Lake Rd\, Buchanan\, MI\, 49107
CATEGORIES:Family Camp
ATTACH;FMTTYPE=image/jpeg:https://lifeaction.org/wp-content/uploads/2023/12/Family-Camp-2023-2117-scaled.jpg
END:VEVENT
BEGIN:VEVENT
DTSTART;VALUE=DATE:20240624
DTEND;VALUE=DATE:20240630
DTSTAMP:20260423T112729
CREATED:20231213T213127Z
LAST-MODIFIED:20240208T172917Z
UID:10000020-1719187200-1719705599@lifeaction.org
SUMMARY:Family Camp Week 4
DESCRIPTION:We’re all about Family Camp: activities designed for the whole family\, age-specific teaching during each session\, and much more. Family Camp is packed with fun from land to water.
URL:https://lifeaction.org/event/family-camp-week-4/
LOCATION:Life Action Camp\, 1696 E Clear Lake Rd\, Buchanan\, MI\, 49107
CATEGORIES:Family Camp
ATTACH;FMTTYPE=image/jpeg:https://lifeaction.org/wp-content/uploads/2023/12/Family-Camp-2023-5118-scaled.jpg
END:VEVENT
END:VCALENDAR