BEGIN:VCALENDAR
VERSION:2.0
PRODID:-//Life Action - ECPv6.15.20//NONSGML v1.0//EN
CALSCALE:GREGORIAN
METHOD:PUBLISH
X-WR-CALNAME:Life Action
X-ORIGINAL-URL:https://lifeaction.org
X-WR-CALDESC:Events for Life Action
REFRESH-INTERVAL;VALUE=DURATION:PT1H
X-Robots-Tag:noindex
X-PUBLISHED-TTL:PT1H
BEGIN:VTIMEZONE
TZID:UTC
BEGIN:STANDARD
TZOFFSETFROM:+0000
TZOFFSETTO:+0000
TZNAME:UTC
DTSTART:20240101T000000
END:STANDARD
END:VTIMEZONE
BEGIN:VEVENT
DTSTART;VALUE=DATE:20250411
DTEND;VALUE=DATE:20250414
DTSTAMP:20260422T000007
CREATED:20240911T165207Z
LAST-MODIFIED:20250218T162122Z
UID:10000072-1744329600-1744588799@lifeaction.org
SUMMARY:Thrive: A Retreat for Women
DESCRIPTION:The things of life can leave us longing for more of what Jesus promised to give us. Thrive is a weekend designed to help women experience more of Jesus—through His Word\, worship\, fellowship\, fun\, and incredible food. Come join us
URL:https://lifeaction.org/event/thrive/
LOCATION:Life Action Camp\, 1696 E Clear Lake Rd\, Buchanan\, MI\, 49107
CATEGORIES:Women's Retreat
ATTACH;FMTTYPE=image/jpeg:https://lifeaction.org/wp-content/uploads/2024/01/Untitled-3.jpg
END:VEVENT
END:VCALENDAR